BEGIN:VCALENDAR
VERSION:2.0
PRODID:-//VUE Marketing Group - ECPv6.0.0.1//NONSGML v1.0//EN
CALSCALE:GREGORIAN
METHOD:PUBLISH
X-WR-CALNAME:VUE Marketing Group
X-ORIGINAL-URL:https://vuemarketingroup.com
X-WR-CALDESC:Events for VUE Marketing Group
REFRESH-INTERVAL;VALUE=DURATION:PT1H
X-Robots-Tag:noindex
X-PUBLISHED-TTL:PT1H
BEGIN:VTIMEZONE
TZID:America/New_York
BEGIN:DAYLIGHT
TZOFFSETFROM:-0500
TZOFFSETTO:-0400
TZNAME:EDT
DTSTART:20230312T070000
END:DAYLIGHT
BEGIN:STANDARD
TZOFFSETFROM:-0400
TZOFFSETTO:-0500
TZNAME:EST
DTSTART:20231105T060000
END:STANDARD
BEGIN:DAYLIGHT
TZOFFSETFROM:-0500
TZOFFSETTO:-0400
TZNAME:EDT
DTSTART:20240310T070000
END:DAYLIGHT
BEGIN:STANDARD
TZOFFSETFROM:-0400
TZOFFSETTO:-0500
TZNAME:EST
DTSTART:20241103T060000
END:STANDARD
BEGIN:DAYLIGHT
TZOFFSETFROM:-0500
TZOFFSETTO:-0400
TZNAME:EDT
DTSTART:20250309T070000
END:DAYLIGHT
BEGIN:STANDARD
TZOFFSETFROM:-0400
TZOFFSETTO:-0500
TZNAME:EST
DTSTART:20251102T060000
END:STANDARD
BEGIN:DAYLIGHT
TZOFFSETFROM:-0500
TZOFFSETTO:-0400
TZNAME:EDT
DTSTART:20260308T070000
END:DAYLIGHT
BEGIN:STANDARD
TZOFFSETFROM:-0400
TZOFFSETTO:-0500
TZNAME:EST
DTSTART:20261101T060000
END:STANDARD
BEGIN:DAYLIGHT
TZOFFSETFROM:-0500
TZOFFSETTO:-0400
TZNAME:EDT
DTSTART:20270314T070000
END:DAYLIGHT
BEGIN:STANDARD
TZOFFSETFROM:-0400
TZOFFSETTO:-0500
TZNAME:EST
DTSTART:20271107T060000
END:STANDARD
BEGIN:DAYLIGHT
TZOFFSETFROM:-0500
TZOFFSETTO:-0400
TZNAME:EDT
DTSTART:20280312T070000
END:DAYLIGHT
BEGIN:STANDARD
TZOFFSETFROM:-0400
TZOFFSETTO:-0500
TZNAME:EST
DTSTART:20281105T060000
END:STANDARD
BEGIN:DAYLIGHT
TZOFFSETFROM:-0500
TZOFFSETTO:-0400
TZNAME:EDT
DTSTART:20290311T070000
END:DAYLIGHT
BEGIN:STANDARD
TZOFFSETFROM:-0400
TZOFFSETTO:-0500
TZNAME:EST
DTSTART:20291104T060000
END:STANDARD
BEGIN:DAYLIGHT
TZOFFSETFROM:-0500
TZOFFSETTO:-0400
TZNAME:EDT
DTSTART:20300310T070000
END:DAYLIGHT
BEGIN:STANDARD
TZOFFSETFROM:-0400
TZOFFSETTO:-0500
TZNAME:EST
DTSTART:20301103T060000
END:STANDARD
BEGIN:DAYLIGHT
TZOFFSETFROM:-0500
TZOFFSETTO:-0400
TZNAME:EDT
DTSTART:20310309T070000
END:DAYLIGHT
BEGIN:STANDARD
TZOFFSETFROM:-0400
TZOFFSETTO:-0500
TZNAME:EST
DTSTART:20311102T060000
END:STANDARD
END:VTIMEZONE
BEGIN:VEVENT
DTSTART;TZID=America/New_York:20231013T220000
DTEND;TZID=America/New_York:20271119T020000
DTSTAMP:20260423T064915
CREATED:20160805T191929Z
LAST-MODIFIED:20231012T191925Z
UID:287-1697234400-1826589600@vuemarketingroup.com
SUMMARY:THE HALL AT THE YARD
DESCRIPTION:Get ready to immerse yourself in the ultimate fusion of delectable flavors and captivating performances at Vivir\, our sizzling new dinner lounge Friday Night party! \nWHEN: Fridays \nTIME: 7pm-11pm dinner show\n11pm-2am\, Vivir Late Night. \nWHERE: THE HALL AT THE YARD\n1460 Alden Road – Orlando\, FL 32803 \nRsvp: https://tinyurl.com/Vivirwithus \nJoin us for an unforgettable night where food\, signature cocktails and entertainment intertwine in perfect harmony. \nMusic by: Orlando best Dj’s \nVIVIR and Indulge your senses and let the magic unfold! \nPowered by: @Abel.Misael & @OrlandoProductionGroup
URL:https://vuemarketingroup.com/event/the-hall-at-the-yard/
LOCATION:THE HALL AT THE YARD\, 1460 Alden Road\, Orlando\, FL\, 32803\, United States
CATEGORIES:Dancing,Live Entertainment,Nightlife Orlando
ORGANIZER;CN="Abel%20Misael":MAILTO:abel@vuemarketingroup.com
GEO:28.4510595;-81.4798071
X-APPLE-STRUCTURED-LOCATION;VALUE=URI;X-ADDRESS=THE HALL AT THE YARD 1460 Alden Road Orlando FL 32803 United States;X-APPLE-RADIUS=500;X-TITLE=1460 Alden Road:geo:-81.4798071,28.4510595
END:VEVENT
BEGIN:VEVENT
DTSTART;TZID=America/New_York:20240727T190000
DTEND;TZID=America/New_York:20310726T020000
DTSTAMP:20260423T064915
CREATED:20240723T204048Z
LAST-MODIFIED:20240723T204402Z
UID:2577-1722106800-1942797600@vuemarketingroup.com
SUMMARY:Noches Azul -BLUE MARTINI BRICKELL
DESCRIPTION:Blue Martini Brickell is known as the hottest\, upscale nightclub in the heart of Brickell. Blue Brickell boasts a beautiful atmosphere\, beautiful people\, and features the best in Live Entertainment. \nJoin us for our legendary happy hour\, unwind after work\, book a private party and let us host your next special event. Begin the night with Happy Hour and stay for a nightlife experience like no other. The drinks are flowing\, the music is going\, and the party is always on at Blue Martini Brickell!
URL:https://vuemarketingroup.com/event/noches-azul-blue-martini-brickell/
LOCATION:Blue Martini – Brickell\, 900 S Miami Ave #250\, Miami\, FL\, 33130\, United States
CATEGORIES:Dancing,Live Entertainment,Nightlife Orlando
ATTACH;FMTTYPE=image/jpeg:https://vuemarketingroup.com/wp-content/uploads/2024/07/5168-1290x726-d04a2ff4c5.jpg
ORGANIZER;CN="Abel%20Misael":MAILTO:abel@vuemarketingroup.com
GEO:28.4337358;-81.4699511
X-APPLE-STRUCTURED-LOCATION;VALUE=URI;X-ADDRESS=Blue Martini – Brickell 900 S Miami Ave #250 Miami FL 33130 United States;X-APPLE-RADIUS=500;X-TITLE=900 S Miami Ave #250:geo:-81.4699511,28.4337358
END:VEVENT
END:VCALENDAR